BEGIN:VCALENDAR
VERSION:2.0
PRODID:-//Doppelpunkt//Events//DE
CALSCALE:GREGORIAN
METHOD:PUBLISH
BEGIN:VEVENT
UID:event-2970@www.doppelpunkt.de
DTSTAMP:20260425T123901
DTSTART:20251212T193000
DTEND:20251212T193000
SUMMARY:Wiedugaga\, Buni Drummers u. FantasyDreams: Tanz u. Theater
LOCATION:Buni Treff\, Bertolt-Brecht-Str. 6 RG\, 90471 Nürnberg
STATUS:CONFIRMED
END:VEVENT
END:VCALENDAR