BEGIN:VCALENDAR
VERSION:2.0
PRODID:-//Doppelpunkt//Events//DE
CALSCALE:GREGORIAN
METHOD:PUBLISH
BEGIN:VEVENT
UID:event-2966@www.doppelpunkt.de
DTSTAMP:20260421T105733
DTSTART:20260207T200000
DTEND:20260207T200000
SUMMARY:Claudia Pichler: "Feierabend"\, Kabarett
LOCATION:Kulturladen Loni Übler Haus\, Marthastraße 60\, 90482 Nürnberg
STATUS:CONFIRMED
END:VEVENT
END:VCALENDAR