BEGIN:VCALENDAR
VERSION:2.0
PRODID:-//Doppelpunkt//Events//DE
CALSCALE:GREGORIAN
METHOD:PUBLISH
BEGIN:VEVENT
UID:event-2964@www.doppelpunkt.de
DTSTAMP:20260421T111428
DTSTART:20251206T140000
DTEND:20251206T140000
SUMMARY:Mögeldorfer Weihnachtsmarkt
LOCATION:Mögeldorfer Plärrer\, Ostendstr.\, 90482 Nürnberg
STATUS:CONFIRMED
END:VEVENT
END:VCALENDAR