BEGIN:VCALENDAR
VERSION:2.0
PRODID:-//Doppelpunkt//Events//DE
CALSCALE:GREGORIAN
METHOD:PUBLISH
BEGIN:VEVENT
UID:event-2960@www.doppelpunkt.de
DTSTAMP:20260421T113904
DTSTART:20251227T230000
DTEND:20251227T230000
SUMMARY:"Rosa Hirsch Anniversary"-Party\, Party/Pop/Happy House mit Specials
LOCATION:Gate\, Flughafenstraße 100\, 90411 Nürnberg
STATUS:CONFIRMED
END:VEVENT
END:VCALENDAR