BEGIN:VCALENDAR
VERSION:2.0
PRODID:-//Doppelpunkt//Events//DE
CALSCALE:GREGORIAN
METHOD:PUBLISH
BEGIN:VEVENT
UID:event-2959@www.doppelpunkt.de
DTSTAMP:20260425T135354
DTSTART:20260117T220000
DTEND:20260117T220000
SUMMARY:"Glow Up Hits"\, 2000er to now/House mit DJ MVM u. DJ Mad
LOCATION:Gate\, Flughafenstraße 100\, 90411 Nürnberg
STATUS:CONFIRMED
END:VEVENT
END:VCALENDAR