BEGIN:VCALENDAR
VERSION:2.0
PRODID:-//Doppelpunkt//Events//DE
CALSCALE:GREGORIAN
METHOD:PUBLISH
BEGIN:VEVENT
UID:event-2958@www.doppelpunkt.de
DTSTAMP:20260425T142334
DTSTART:20260131T210000
DTEND:20260131T210000
SUMMARY:"80er/90er Gate"\, mit DJ Sigi di Collini u. DJ Mad
LOCATION:Gate\, Flughafenstraße 100\, 90411 Nürnberg
STATUS:CONFIRMED
END:VEVENT
END:VCALENDAR