BEGIN:VCALENDAR
VERSION:2.0
PRODID:-//Doppelpunkt//Events//DE
CALSCALE:GREGORIAN
METHOD:PUBLISH
BEGIN:VEVENT
UID:event-2957@www.doppelpunkt.de
DTSTAMP:20260425T141647
DTSTART:20260131T230000
DTEND:20260131T230000
SUMMARY:"Rosa Hirsch Anniversary"-Party\, Party/Pop/Happy House mit Specials
LOCATION:Hirsch\, Vogelweiher Str. 66\, 90441 Nürnberg
STATUS:CONFIRMED
END:VEVENT
END:VCALENDAR