BEGIN:VCALENDAR
VERSION:2.0
PRODID:-//Doppelpunkt//Events//DE
CALSCALE:GREGORIAN
METHOD:PUBLISH
BEGIN:VEVENT
UID:event-2955@www.doppelpunkt.de
DTSTAMP:20260421T111424
DTSTART:20260208T160000
DTEND:20260208T160000
SUMMARY:Führung zur Ausstellung: "Finale 2"
LOCATION:Atelier Eins\, Lenbachstr. 4\, 90489 Nürnberg
STATUS:CONFIRMED
END:VEVENT
END:VCALENDAR