BEGIN:VCALENDAR
VERSION:2.0
PRODID:-//Doppelpunkt//Events//DE
CALSCALE:GREGORIAN
METHOD:PUBLISH
BEGIN:VEVENT
UID:event-2953@www.doppelpunkt.de
DTSTAMP:20260421T111559
DTSTART:20251207T150000
DTEND:20251207T150000
SUMMARY:Atelier-Weihnachtsfeier mit Buffet\, Kunstauktion u. Musik
LOCATION:Atelier Eins\, Lenbachstr. 4\, 90489 Nürnberg
STATUS:CONFIRMED
END:VEVENT
END:VCALENDAR