BEGIN:VCALENDAR
VERSION:2.0
PRODID:-//Doppelpunkt//Events//DE
CALSCALE:GREGORIAN
METHOD:PUBLISH
BEGIN:VEVENT
UID:event-2951@www.doppelpunkt.de
DTSTAMP:20260425T135821
DTSTART:20260118T193000
DTEND:20260118T193000
SUMMARY:Alexander Boldachev (Harfe): Werke von Bach\, Vivaldi\, Pop- u. Rock-Musik
LOCATION:Stadthalle Gunzenhausen\, Isle-Platz\, 91710 Gunzenhausen
STATUS:CONFIRMED
END:VEVENT
END:VCALENDAR