BEGIN:VCALENDAR
VERSION:2.0
PRODID:-//Doppelpunkt//Events//DE
CALSCALE:GREGORIAN
METHOD:PUBLISH
BEGIN:VEVENT
UID:event-2950@www.doppelpunkt.de
DTSTAMP:20260419T184259
DTSTART:20251213T193000
DTEND:20251213T193000
SUMMARY:Schariwari: "Bayerische Rauhnacht"\, Mystikal
LOCATION:Stadthalle Gunzenhausen\, Isle-Platz\, 91710 Gunzenhausen
STATUS:CONFIRMED
END:VEVENT
END:VCALENDAR