BEGIN:VCALENDAR
VERSION:2.0
PRODID:-//Doppelpunkt//Events//DE
CALSCALE:GREGORIAN
METHOD:PUBLISH
BEGIN:VEVENT
UID:event-2948@www.doppelpunkt.de
DTSTAMP:20260421T050647
DTSTART:20260106T170000
DTEND:20260106T170000
SUMMARY:Veronika Loy (Sopran)\, Hans Kittelmann (Tenor)\, Andreas Paetzold (Piano): Neujahrskonzert mit Melodien aus Operette u. Musical
LOCATION:Orpheum\, Johannisstr. 32 a\, 90419 Nürnberg
STATUS:CONFIRMED
END:VEVENT
END:VCALENDAR