BEGIN:VCALENDAR
VERSION:2.0
PRODID:-//Doppelpunkt//Events//DE
CALSCALE:GREGORIAN
METHOD:PUBLISH
BEGIN:VEVENT
UID:event-2947@www.doppelpunkt.de
DTSTAMP:20260421T105724
DTSTART:20251231T203000
DTEND:20251231T203000
SUMMARY:"Silvesterparty"\,  50er bis 90er-Hits mit DJ Crassus
LOCATION:Orpheum\, Johannisstr. 32 a\, 90419 Nürnberg
STATUS:CONFIRMED
END:VEVENT
END:VCALENDAR