BEGIN:VCALENDAR
VERSION:2.0
PRODID:-//Doppelpunkt//Events//DE
CALSCALE:GREGORIAN
METHOD:PUBLISH
BEGIN:VEVENT
UID:event-2946@www.doppelpunkt.de
DTSTAMP:20260425T121950
DTSTART:20251220T200000
DTEND:20251220T200000
SUMMARY:GTD Comedy Slam
LOCATION:Orpheum\, Johannisstr. 32 a\, 90419 Nürnberg
STATUS:CONFIRMED
END:VEVENT
END:VCALENDAR