BEGIN:VCALENDAR
VERSION:2.0
PRODID:-//Doppelpunkt//Events//DE
CALSCALE:GREGORIAN
METHOD:PUBLISH
BEGIN:VEVENT
UID:event-2943@www.doppelpunkt.de
DTSTAMP:20260421T111539
DTSTART:20251231T210000
DTEND:20251231T210000
SUMMARY:"New Year Party"\, 80er/90er/2000er Hits
LOCATION:Hirsch\, Vogelweiher Str. 66\, 90441 Nürnberg
STATUS:CONFIRMED
END:VEVENT
END:VCALENDAR