BEGIN:VCALENDAR
VERSION:2.0
PRODID:-//Doppelpunkt//Events//DE
CALSCALE:GREGORIAN
METHOD:PUBLISH
BEGIN:VEVENT
UID:event-2942@www.doppelpunkt.de
DTSTAMP:20260421T105624
DTSTART:20251220T230000
DTEND:20251220T230000
SUMMARY:"MoreCore"-Party
LOCATION:Hirsch\, Vogelweiher Str. 66\, 90441 Nürnberg
STATUS:CONFIRMED
END:VEVENT
END:VCALENDAR