BEGIN:VCALENDAR
VERSION:2.0
PRODID:-//Doppelpunkt//Events//DE
CALSCALE:GREGORIAN
METHOD:PUBLISH
BEGIN:VEVENT
UID:event-2938@www.doppelpunkt.de
DTSTAMP:20260425T141913
DTSTART:20260211T190000
DTEND:20260211T190000
SUMMARY:Autorenlesung mit Frédéric Schwilden: "Gute Menschen"
LOCATION:Literaturhaus\, Luitpoldstr. 6\, 90402 Nürnberg
STATUS:CONFIRMED
END:VEVENT
END:VCALENDAR