BEGIN:VCALENDAR
VERSION:2.0
PRODID:-//Doppelpunkt//Events//DE
CALSCALE:GREGORIAN
METHOD:PUBLISH
BEGIN:VEVENT
UID:event-2937@www.doppelpunkt.de
DTSTAMP:20260425T141648
DTSTART:20260115T190000
DTEND:20260115T190000
SUMMARY:Autorenlesung mit Norbert Frei: "Konrad Adenauer. Kanzler nach der Katastrophe"
LOCATION:Literaturhaus\, Luitpoldstr. 6\, 90402 Nürnberg
STATUS:CONFIRMED
END:VEVENT
END:VCALENDAR