BEGIN:VCALENDAR
VERSION:2.0
PRODID:-//Doppelpunkt//Events//DE
CALSCALE:GREGORIAN
METHOD:PUBLISH
BEGIN:VEVENT
UID:event-2934@www.doppelpunkt.de
DTSTAMP:20260421T105724
DTSTART:20251220T220000
DTEND:20251220T220000
SUMMARY:"Dancing With Tears In My Eyes"\, 80er-Party mit DJs Synthie&Bert\, SOS4Love\, eve massacre\, Quirin Ärger und Tobiolo
LOCATION:Künstlerhaus Soft Spot\, Königstr. 93\, 90429 Nürnberg
STATUS:CONFIRMED
END:VEVENT
END:VCALENDAR