BEGIN:VCALENDAR
VERSION:2.0
PRODID:-//Doppelpunkt//Events//DE
CALSCALE:GREGORIAN
METHOD:PUBLISH
BEGIN:VEVENT
UID:event-2925@www.doppelpunkt.de
DTSTAMP:20260421T135137
DTSTART:20260110T200000
DTEND:20260110T200000
SUMMARY:David Helbock & Austrian Syndicate feat. Roland Neffe (Fusion Jazz)
LOCATION:Autohaus Opel Fleischmann\, Nürnberger Str. 21-23\, 90518 Altdorf
STATUS:CONFIRMED
END:VEVENT
END:VCALENDAR