BEGIN:VCALENDAR
VERSION:2.0
PRODID:-//Doppelpunkt//Events//DE
CALSCALE:GREGORIAN
METHOD:PUBLISH
BEGIN:VEVENT
UID:event-2923@www.doppelpunkt.de
DTSTAMP:20260425T122906
DTSTART:20260204T200000
DTEND:20260204T200000
SUMMARY:Doc Caro: "Lebe jetzt! - Lachen auf Rezept"\, Comedy\, Infotainment
LOCATION:Stadthalle Fürth\, Rosenstr. 50\, 90762 Fürth
STATUS:CONFIRMED
END:VEVENT
END:VCALENDAR