BEGIN:VCALENDAR
VERSION:2.0
PRODID:-//Doppelpunkt//Events//DE
CALSCALE:GREGORIAN
METHOD:PUBLISH
BEGIN:VEVENT
UID:event-2917@www.doppelpunkt.de
DTSTAMP:20260421T111538
DTSTART:20251203T203000
DTEND:20251203T203000
SUMMARY:"Genesis"-Special Night: Lichtshow mit Live-Musik: Stefan Grasse (Gitarre)
LOCATION:St. Peter Kirche\, Regensburgerstr./Harsdörffer Str.\, 90478 Nürnberg
STATUS:CONFIRMED
END:VEVENT
END:VCALENDAR