BEGIN:VCALENDAR
VERSION:2.0
PRODID:-//Doppelpunkt//Events//DE
CALSCALE:GREGORIAN
METHOD:PUBLISH
BEGIN:VEVENT
UID:event-2914@www.doppelpunkt.de
DTSTAMP:20260421T050731
DTSTART:20260106T160000
DTEND:20260106T160000
SUMMARY:Boogiemen's Friends & Albert Koch (Boogie Woogie/Blues)
LOCATION:Burg Rabenstein\, Rabenstein 33\, 95491 Ahorntal
STATUS:CONFIRMED
END:VEVENT
END:VCALENDAR