BEGIN:VCALENDAR
VERSION:2.0
PRODID:-//Doppelpunkt//Events//DE
CALSCALE:GREGORIAN
METHOD:PUBLISH
BEGIN:VEVENT
UID:event-2913@www.doppelpunkt.de
DTSTAMP:20260421T111426
DTSTART:20251231T190000
DTEND:20251231T190000
SUMMARY:Silvesterfeier mit Barockfeuerwerk\, Beletage: Hildegard Pohl Trio (Swing/Klassik) und Galamenü\; Rittersaal: mittelalterliche Musik & Unterhaltung und Buffet
LOCATION:Burg Rabenstein\, Rabenstein 33\, 95491 Ahorntal
STATUS:CONFIRMED
END:VEVENT
END:VCALENDAR