BEGIN:VCALENDAR
VERSION:2.0
PRODID:-//Doppelpunkt//Events//DE
CALSCALE:GREGORIAN
METHOD:PUBLISH
BEGIN:VEVENT
UID:event-2906@www.doppelpunkt.de
DTSTAMP:20260425T135318
DTSTART:20260119T200000
DTEND:20260119T200000
SUMMARY:Cinema Festival Symphonics London\, Chor u. Solisten: "Der König der Löwen - The Music live in Concert!"
LOCATION:Meistersingerhalle\, Münchener Str. 21\, 90478 Nürnberg
STATUS:CONFIRMED
END:VEVENT
END:VCALENDAR