BEGIN:VCALENDAR
VERSION:2.0
PRODID:-//Doppelpunkt//Events//DE
CALSCALE:GREGORIAN
METHOD:PUBLISH
BEGIN:VEVENT
UID:event-2904@www.doppelpunkt.de
DTSTAMP:20260421T111501
DTSTART:20251202T190000
DTEND:20251202T190000
SUMMARY:"Genesis"-Special Night: Lichtshow mit Live-Musik: Nujakasha (Jazz/Soul) - auch um 20.30 Uhr
LOCATION:St. Peter Kirche\, Regensburgerstr./Harsdörffer Str.\, 90478 Nürnberg
STATUS:CONFIRMED
END:VEVENT
END:VCALENDAR