BEGIN:VCALENDAR
VERSION:2.0
PRODID:-//Doppelpunkt//Events//DE
CALSCALE:GREGORIAN
METHOD:PUBLISH
BEGIN:VEVENT
UID:event-2902@www.doppelpunkt.de
DTSTAMP:20260425T141513
DTSTART:20260114T193000
DTEND:20260114T193000
SUMMARY:Academy of St Martin in the Fields\, Joshua Bell (Violine/Ltg.): Werke von Puts\, Mozart u. Brahms
LOCATION:Heinrich-Lades-Halle\, Rathausplatz 2\, 91052 Erlangen
STATUS:CONFIRMED
END:VEVENT
END:VCALENDAR