BEGIN:VCALENDAR
VERSION:2.0
PRODID:-//Doppelpunkt//Events//DE
CALSCALE:GREGORIAN
METHOD:PUBLISH
BEGIN:VEVENT
UID:event-2898@www.doppelpunkt.de
DTSTAMP:20260421T111722
DTSTART:20251205T090000
DTEND:20251214T235900
SUMMARY:"Der Markt für schöne Dinge - Kunst & Handwerk"\, Verkaufsausstellung
LOCATION:Stadtmuseum Fembohaus\, Burgstr. 15\, 90403 Nürnberg
STATUS:CONFIRMED
END:VEVENT
END:VCALENDAR