BEGIN:VCALENDAR
VERSION:2.0
PRODID:-//Doppelpunkt//Events//DE
CALSCALE:GREGORIAN
METHOD:PUBLISH
BEGIN:VEVENT
UID:event-2897@www.doppelpunkt.de
DTSTAMP:20260425T123804
DTSTART:20251229T193000
DTEND:20251229T193000
SUMMARY:Crown Ballet: "Nussknacker"\, Ballett mit Musik von P. Tschaikowsky
LOCATION:Max-Reger-Halle\, Dr.-Pfleger-Str. 17\, 92637 Weiden
STATUS:CONFIRMED
END:VEVENT
END:VCALENDAR