BEGIN:VCALENDAR
VERSION:2.0
PRODID:-//Doppelpunkt//Events//DE
CALSCALE:GREGORIAN
METHOD:PUBLISH
BEGIN:VEVENT
UID:event-2896@www.doppelpunkt.de
DTSTAMP:20260421T105425
DTSTART:20260109T193000
DTEND:20260109T193000
SUMMARY:Crown Ballet: "Schwanensee"\, Ballett mit Musik von P. Tschaikowsky
LOCATION:Heinrich-Lades-Halle\, Rathausplatz 2\, 91052 Erlangen
STATUS:CONFIRMED
END:VEVENT
END:VCALENDAR