BEGIN:VCALENDAR
VERSION:2.0
PRODID:-//Doppelpunkt//Events//DE
CALSCALE:GREGORIAN
METHOD:PUBLISH
BEGIN:VEVENT
UID:event-2890@www.doppelpunkt.de
DTSTAMP:20260421T105716
DTSTART:20260226T193000
DTEND:20260226T193000
SUMMARY:Vibraphonissimo": Izabella Effenberrg\, Magnus Öström\, Martin Weinert\, Miho Kasama: Klangperformance
LOCATION:Kulturwerkstatt Auf AEG\, Fürther Straße 244d\, 90429 Nürnberg
STATUS:CONFIRMED
END:VEVENT
END:VCALENDAR