BEGIN:VCALENDAR
VERSION:2.0
PRODID:-//Doppelpunkt//Events//DE
CALSCALE:GREGORIAN
METHOD:PUBLISH
BEGIN:VEVENT
UID:event-2886@www.doppelpunkt.de
DTSTAMP:20260425T122907
DTSTART:20251213T190000
DTEND:20251213T190000
SUMMARY:"Sheb-I Arus"\, Drehtanzritual der Mevlevi-Derwische
LOCATION:Kulturwerkstatt Auf AEG\, Fürther Straße 244d\, 90429 Nürnberg
STATUS:CONFIRMED
END:VEVENT
END:VCALENDAR