BEGIN:VCALENDAR
VERSION:2.0
PRODID:-//Doppelpunkt//Events//DE
CALSCALE:GREGORIAN
METHOD:PUBLISH
BEGIN:VEVENT
UID:event-2885@www.doppelpunkt.de
DTSTAMP:20260421T111459
DTSTART:20251212T170000
DTEND:20251212T170000
SUMMARY:"Projekt Freispiel": Vorträge\, Performances\, Musik
LOCATION:Kulturwerkstatt Auf AEG\, Fürther Straße 244d\, 90429 Nürnberg
STATUS:CONFIRMED
END:VEVENT
END:VCALENDAR