BEGIN:VCALENDAR
VERSION:2.0
PRODID:-//Doppelpunkt//Events//DE
CALSCALE:GREGORIAN
METHOD:PUBLISH
BEGIN:VEVENT
UID:event-2881@www.doppelpunkt.de
DTSTAMP:20260425T135709
DTSTART:20260129T143000
DTEND:20260129T143000
SUMMARY:Kommunalwahl 2026: Podiumsdiskussion
LOCATION:Südpunkt\, Pillenreuther Str. 147\, 90459 Nürnberg
STATUS:CONFIRMED
END:VEVENT
END:VCALENDAR