BEGIN:VCALENDAR
VERSION:2.0
PRODID:-//Doppelpunkt//Events//DE
CALSCALE:GREGORIAN
METHOD:PUBLISH
BEGIN:VEVENT
UID:event-2879@www.doppelpunkt.de
DTSTAMP:20260421T164731
DTSTART:20251214T200000
DTEND:20251214T200000
SUMMARY:Groove Legend Orchestra feat. Christina Jung
LOCATION:Südpunkt\, Pillenreuther Str. 147\, 90459 Nürnberg
STATUS:CONFIRMED
END:VEVENT
END:VCALENDAR