BEGIN:VCALENDAR
VERSION:2.0
PRODID:-//Doppelpunkt//Events//DE
CALSCALE:GREGORIAN
METHOD:PUBLISH
BEGIN:VEVENT
UID:event-2878@www.doppelpunkt.de
DTSTAMP:20260419T184122
DTSTART:20251213T200000
DTEND:20251213T200000
SUMMARY:Improtheater RollenRausch: "Impro unterm Mistelzweig"
LOCATION:Südpunkt\, Pillenreuther Str. 147\, 90459 Nürnberg
STATUS:CONFIRMED
END:VEVENT
END:VCALENDAR