BEGIN:VCALENDAR
VERSION:2.0
PRODID:-//Doppelpunkt//Events//DE
CALSCALE:GREGORIAN
METHOD:PUBLISH
BEGIN:VEVENT
UID:event-2877@www.doppelpunkt.de
DTSTAMP:20260421T111539
DTSTART:20251212T193000
DTEND:20251212T193000
SUMMARY:Tropical Salsa Party
LOCATION:Südpunkt\, Pillenreuther Str. 147\, 90459 Nürnberg
STATUS:CONFIRMED
END:VEVENT
END:VCALENDAR