BEGIN:VCALENDAR
VERSION:2.0
PRODID:-//Doppelpunkt//Events//DE
CALSCALE:GREGORIAN
METHOD:PUBLISH
BEGIN:VEVENT
UID:event-2875@www.doppelpunkt.de
DTSTAMP:20260421T111458
DTSTART:20251211T200000
DTEND:20251211T200000
SUMMARY:Vortrag: "Reich werden in 120 Minuten"\, Crashkurs mit Michael Jakob
LOCATION:Südpunkt\, Pillenreuther Str. 147\, 90459 Nürnberg
STATUS:CONFIRMED
END:VEVENT
END:VCALENDAR