BEGIN:VCALENDAR
VERSION:2.0
PRODID:-//Doppelpunkt//Events//DE
CALSCALE:GREGORIAN
METHOD:PUBLISH
BEGIN:VEVENT
UID:event-2872@www.doppelpunkt.de
DTSTAMP:20260421T105722
DTSTART:20260210T150000
DTEND:20260210T150000
SUMMARY:"Bei drei auf den Bäumen"\, Kindertheater ab 4 J.
LOCATION:Gemeinschaftshaus Langwasser\, Glogauer Str. 50\, 90473 Nürnberg
STATUS:CONFIRMED
END:VEVENT
END:VCALENDAR