BEGIN:VCALENDAR
VERSION:2.0
PRODID:-//Doppelpunkt//Events//DE
CALSCALE:GREGORIAN
METHOD:PUBLISH
BEGIN:VEVENT
UID:event-2871@www.doppelpunkt.de
DTSTAMP:20260425T135455
DTSTART:20260124T090000
DTEND:20260124T090000
SUMMARY:"From the streets with love"\, Streetdance-Show
LOCATION:Gemeinschaftshaus Langwasser\, Glogauer Str. 50\, 90473 Nürnberg
STATUS:CONFIRMED
END:VEVENT
END:VCALENDAR