BEGIN:VCALENDAR
VERSION:2.0
PRODID:-//Doppelpunkt//Events//DE
CALSCALE:GREGORIAN
METHOD:PUBLISH
BEGIN:VEVENT
UID:event-2867@www.doppelpunkt.de
DTSTAMP:20260425T141347
DTSTART:20260130T200000
DTEND:20260130T200000
SUMMARY:Carolin No (Songwriter)
LOCATION:Hubertussaal\, Dianastr. 28\, 90441 Nürnberg
STATUS:CONFIRMED
END:VEVENT
END:VCALENDAR