BEGIN:VCALENDAR
VERSION:2.0
PRODID:-//Doppelpunkt//Events//DE
CALSCALE:GREGORIAN
METHOD:PUBLISH
BEGIN:VEVENT
UID:event-2866@www.doppelpunkt.de
DTSTAMP:20260425T141913
DTSTART:20260124T200000
DTEND:20260124T200000
SUMMARY:Ernst Schultz & Band\, Doc Scholz & Band\, Helmut Haberkamm & Band: "Drei mal Dylan - englisch\, fränkisch\, deutsch"
LOCATION:Hubertussaal\, Dianastr. 28\, 90441 Nürnberg
STATUS:CONFIRMED
END:VEVENT
END:VCALENDAR