BEGIN:VCALENDAR
VERSION:2.0
PRODID:-//Doppelpunkt//Events//DE
CALSCALE:GREGORIAN
METHOD:PUBLISH
BEGIN:VEVENT
UID:event-2865@www.doppelpunkt.de
DTSTAMP:20260421T111539
DTSTART:20260115T200000
DTEND:20260206T235900
SUMMARY:"We are Family"\, Schauspiel von Tine Rahel Völcker
LOCATION:Gostner Hoftheater\, Austr. 70\, 90429 Nürnberg
STATUS:CONFIRMED
END:VEVENT
END:VCALENDAR