BEGIN:VCALENDAR
VERSION:2.0
PRODID:-//Doppelpunkt//Events//DE
CALSCALE:GREGORIAN
METHOD:PUBLISH
BEGIN:VEVENT
UID:event-2864@www.doppelpunkt.de
DTSTAMP:20260421T111500
DTSTART:20251230T200000
DTEND:20251230T200000
SUMMARY:Bingo Bingo
LOCATION:Loft\, Austr. 70\, 90429 Nürnberg
STATUS:CONFIRMED
END:VEVENT
END:VCALENDAR