BEGIN:VCALENDAR
VERSION:2.0
PRODID:-//Doppelpunkt//Events//DE
CALSCALE:GREGORIAN
METHOD:PUBLISH
BEGIN:VEVENT
UID:event-286-6986@www.doppelpunkt.de
DTSTAMP:20260421T111853
DTSTART:20260310T190000
DTEND:20260310T210000
SUMMARY:Kneipenquiz
LOCATION:Kofferfabrik\, Lange Str. 81\, 90762 Fürth
STATUS:CONFIRMED
END:VEVENT
END:VCALENDAR