BEGIN:VCALENDAR
VERSION:2.0
PRODID:-//Doppelpunkt//Events//DE
CALSCALE:GREGORIAN
METHOD:PUBLISH
BEGIN:VEVENT
UID:event-2856@www.doppelpunkt.de
DTSTAMP:20260421T113714
DTSTART:20260210T193000
DTEND:20260210T193000
SUMMARY:Christine Eixenberger: "Volle Kontrolle“\, Kabarett
LOCATION:Comödie Fürth\, Comödien-Platz 1\, 90762 Fürth
STATUS:CONFIRMED
END:VEVENT
END:VCALENDAR