BEGIN:VCALENDAR
VERSION:2.0
PRODID:-//Doppelpunkt//Events//DE
CALSCALE:GREGORIAN
METHOD:PUBLISH
BEGIN:VEVENT
UID:event-2855@www.doppelpunkt.de
DTSTAMP:20260421T105625
DTSTART:20260207T193000
DTEND:20260207T193000
SUMMARY:The Robbie Experience (Robbie Williams-Tribute)
LOCATION:Comödie Fürth\, Comödien-Platz 1\, 90762 Fürth
STATUS:CONFIRMED
END:VEVENT
END:VCALENDAR