BEGIN:VCALENDAR
VERSION:2.0
PRODID:-//Doppelpunkt//Events//DE
CALSCALE:GREGORIAN
METHOD:PUBLISH
BEGIN:VEVENT
UID:event-2854@www.doppelpunkt.de
DTSTAMP:20260425T123002
DTSTART:20260206T193000
DTEND:20260206T193000
SUMMARY:Tony Davis and Band (Tribute To Barry White)
LOCATION:Comödie Fürth\, Comödien-Platz 1\, 90762 Fürth
STATUS:CONFIRMED
END:VEVENT
END:VCALENDAR