BEGIN:VCALENDAR
VERSION:2.0
PRODID:-//Doppelpunkt//Events//DE
CALSCALE:GREGORIAN
METHOD:PUBLISH
BEGIN:VEVENT
UID:event-2848@www.doppelpunkt.de
DTSTAMP:20260421T111559
DTSTART:20260203T193000
DTEND:20260203T193000
SUMMARY:Wolfgang Krebs: "Bayern liebt dich"\, Kabarett
LOCATION:Comödie Fürth\, Comödien-Platz 1\, 90762 Fürth
STATUS:CONFIRMED
END:VEVENT
END:VCALENDAR