BEGIN:VCALENDAR
VERSION:2.0
PRODID:-//Doppelpunkt//Events//DE
CALSCALE:GREGORIAN
METHOD:PUBLISH
BEGIN:VEVENT
UID:event-2847@www.doppelpunkt.de
DTSTAMP:20260425T142044
DTSTART:20260117T173000
DTEND:20260117T173000
SUMMARY:"Kizomba mit Kizz-N": Tanzworkshops mit anschl. Party
LOCATION:Gemeinschaftshaus Langwasser\, Glogauer Str. 50\, 90473 Nürnberg
STATUS:CONFIRMED
END:VEVENT
END:VCALENDAR